Package: PCAtools Version: 2.23.0 Command: /home/biocbuild/bbs-3.23-bioc/R/bin/R CMD INSTALL PCAtools StartedAt: 2025-11-07 15:52:34 -0500 (Fri, 07 Nov 2025) EndedAt: 2025-11-07 15:53:09 -0500 (Fri, 07 Nov 2025) EllapsedTime: 34.7 seconds RetCode: 0 Status: OK