Package: PCAtools Version: 2.23.0 Command: /home/biocbuild/bbs-3.23-bioc/R/bin/R CMD build --keep-empty-dirs --no-resave-data PCAtools StartedAt: 2025-11-07 19:09:47 -0500 (Fri, 07 Nov 2025) EndedAt: 2025-11-07 19:12:09 -0500 (Fri, 07 Nov 2025) EllapsedTime: 141.1 seconds RetCode: 1 Status: ERROR PackageFile: None PackageFileSize: NA