Package: PCAtools Version: 2.23.0 Command: /Library/Frameworks/R.framework/Resources/bin/R CMD INSTALL PCAtools StartedAt: 2025-11-23 15:28:33 -0500 (Sun, 23 Nov 2025) EndedAt: 2025-11-23 15:28:45 -0500 (Sun, 23 Nov 2025) EllapsedTime: 12.4 seconds RetCode: 0 Status: OK