Package: PCAtools Version: 2.23.0 Command: /Library/Frameworks/R.framework/Resources/bin/R CMD build --keep-empty-dirs --no-resave-data PCAtools StartedAt: 2025-11-23 17:16:24 -0500 (Sun, 23 Nov 2025) EndedAt: 2025-11-23 17:17:21 -0500 (Sun, 23 Nov 2025) EllapsedTime: 56.6 seconds RetCode: 1 Status: ERROR PackageFile: None PackageFileSize: NA