Package: PCAN Version: 1.37.0 Command: /home/biocbuild/R/R/bin/R CMD build --keep-empty-dirs --no-resave-data PCAN StartedAt: 2025-10-21 01:59:09 -0000 (Tue, 21 Oct 2025) EndedAt: 2025-10-21 02:00:32 -0000 (Tue, 21 Oct 2025) EllapsedTime: 83.0 seconds RetCode: 0 Status: OK PackageFile: PCAN_1.37.0.tar.gz PackageFileSize: 2.262 MiB