Package: PCAN Version: 1.39.0 Command: /home/biocbuild/bbs-3.23-bioc/R/bin/R CMD INSTALL PCAN StartedAt: 2025-11-07 15:04:50 -0500 (Fri, 07 Nov 2025) EndedAt: 2025-11-07 15:05:16 -0500 (Fri, 07 Nov 2025) EllapsedTime: 26.8 seconds RetCode: 0 Status: OK