Package: PCAN Version: 1.39.0 Command: /home/biocbuild/bbs-3.23-bioc/R/bin/R CMD build --keep-empty-dirs --no-resave-data PCAN StartedAt: 2025-11-07 19:09:42 -0500 (Fri, 07 Nov 2025) EndedAt: 2025-11-07 19:10:36 -0500 (Fri, 07 Nov 2025) EllapsedTime: 54.0 seconds RetCode: 0 Status: OK PackageFile: PCAN_1.39.0.tar.gz PackageFileSize: 2.587 MiB