Package: PCAN Version: 1.37.0 Command: /Library/Frameworks/R.framework/Resources/bin/R CMD build --keep-empty-dirs --no-resave-data PCAN StartedAt: 2025-10-03 18:23:43 -0400 (Fri, 03 Oct 2025) EndedAt: 2025-10-03 18:26:48 -0400 (Fri, 03 Oct 2025) EllapsedTime: 184.5 seconds RetCode: 0 Status: OK PackageFile: PCAN_1.37.0.tar.gz PackageFileSize: 2.564 MiB