Package: PCAN Version: 1.37.0 Command: rm -rf PCAN.buildbin-libdir && mkdir PCAN.buildbin-libdir && /Users/biocbuild/BBS/utils/build-universal.sh PCAN_1.37.0.tar.gz /Library/Frameworks/R.framework/Resources/bin/R PCAN.buildbin-libdir StartedAt: 2025-10-06 02:16:00 -0400 (Mon, 06 Oct 2025) EndedAt: 2025-10-06 02:16:06 -0400 (Mon, 06 Oct 2025) EllapsedTime: 7.0 seconds RetCode: 0 Status: OK PackageFile: PCAN_1.37.0.tgz PackageFileSize: 2.612 MiB