Package: PAST Version: 1.27.0 Command: /home/biocbuild/bbs-3.23-bioc/R/bin/R CMD build --keep-empty-dirs --no-resave-data PAST StartedAt: 2025-11-06 19:07:15 -0500 (Thu, 06 Nov 2025) EndedAt: 2025-11-06 19:09:34 -0500 (Thu, 06 Nov 2025) EllapsedTime: 139.1 seconds RetCode: 0 Status: OK PackageFile: PAST_1.27.0.tar.gz PackageFileSize: 954.2 KiB