Package: PAST Version: 1.25.0 Command: /Library/Frameworks/R.framework/Resources/bin/R CMD INSTALL PAST StartedAt: 2025-10-14 15:27:20 -0400 (Tue, 14 Oct 2025) EndedAt: 2025-10-14 15:28:06 -0400 (Tue, 14 Oct 2025) EllapsedTime: 46.7 seconds RetCode: 0 Status: OK