Package: PAST Version: 1.25.0 Command: /Library/Frameworks/R.framework/Resources/bin/R CMD build --keep-empty-dirs --no-resave-data PAST StartedAt: 2025-10-15 18:41:10 -0400 (Wed, 15 Oct 2025) EndedAt: 2025-10-15 18:45:59 -0400 (Wed, 15 Oct 2025) EllapsedTime: 288.8 seconds RetCode: 0 Status: OK PackageFile: PAST_1.25.0.tar.gz PackageFileSize: 954.2 KiB