Package: PAST Version: 1.25.0 Command: rm -rf PAST.buildbin-libdir && mkdir PAST.buildbin-libdir && /Users/biocbuild/BBS/utils/build-universal.sh PAST_1.25.0.tar.gz /Library/Frameworks/R.framework/Resources/bin/R PAST.buildbin-libdir StartedAt: 2025-10-16 03:08:19 -0400 (Thu, 16 Oct 2025) EndedAt: 2025-10-16 03:09:07 -0400 (Thu, 16 Oct 2025) EllapsedTime: 48.6 seconds RetCode: 0 Status: OK PackageFile: PAST_1.25.0.tgz PackageFileSize: 1008 KiB