Package: PANR Version: 1.57.0 Command: /home/biocbuild/bbs-3.23-bioc/R/bin/R CMD INSTALL PANR StartedAt: 2025-11-20 15:05:16 -0500 (Thu, 20 Nov 2025) EndedAt: 2025-11-20 15:05:42 -0500 (Thu, 20 Nov 2025) EllapsedTime: 26.7 seconds RetCode: 0 Status: OK