Package: PANR Version: 1.55.0 Command: /Library/Frameworks/R.framework/Resources/bin/R CMD INSTALL PANR StartedAt: 2025-10-24 15:16:26 -0400 (Fri, 24 Oct 2025) EndedAt: 2025-10-24 15:17:37 -0400 (Fri, 24 Oct 2025) EllapsedTime: 70.4 seconds RetCode: 0 Status: OK