Package: PANR Version: 1.55.0 Command: /Library/Frameworks/R.framework/Resources/bin/R CMD build --keep-empty-dirs --no-resave-data PANR StartedAt: 2025-10-24 18:10:48 -0400 (Fri, 24 Oct 2025) EndedAt: 2025-10-24 18:11:46 -0400 (Fri, 24 Oct 2025) EllapsedTime: 58.2 seconds RetCode: 0 Status: OK PackageFile: PANR_1.55.0.tar.gz PackageFileSize: 2.111 MiB