Package: PANR Version: 1.55.0 Command: rm -rf PANR.buildbin-libdir && mkdir PANR.buildbin-libdir && /Users/biocbuild/BBS/utils/build-universal.sh PANR_1.55.0.tar.gz /Library/Frameworks/R.framework/Resources/bin/R PANR.buildbin-libdir StartedAt: 2025-10-25 01:55:00 -0400 (Sat, 25 Oct 2025) EndedAt: 2025-10-25 01:55:14 -0400 (Sat, 25 Oct 2025) EllapsedTime: 14.1 seconds RetCode: 0 Status: OK PackageFile: PANR_1.55.0.tgz PackageFileSize: 2.136 MiB