Package: PAIRADISE Version: 1.27.0 Command: /home/biocbuild/bbs-3.23-bioc/R/bin/R CMD INSTALL PAIRADISE StartedAt: 2025-11-20 15:22:49 -0500 (Thu, 20 Nov 2025) EndedAt: 2025-11-20 15:23:09 -0500 (Thu, 20 Nov 2025) EllapsedTime: 20.0 seconds RetCode: 0 Status: OK