Package: PAIRADISE Version: 1.27.0 Command: /home/biocbuild/bbs-3.23-bioc/R/bin/R CMD build --keep-empty-dirs --no-resave-data PAIRADISE StartedAt: 2025-11-20 19:11:01 -0500 (Thu, 20 Nov 2025) EndedAt: 2025-11-20 19:11:47 -0500 (Thu, 20 Nov 2025) EllapsedTime: 46.0 seconds RetCode: 0 Status: OK PackageFile: PAIRADISE_1.27.0.tar.gz PackageFileSize: 320.7 KiB