Package: PAIRADISE Version: 1.25.0 Command: /Library/Frameworks/R.framework/Resources/bin/R CMD INSTALL PAIRADISE StartedAt: 2025-10-13 15:15:28 -0400 (Mon, 13 Oct 2025) EndedAt: 2025-10-13 15:15:36 -0400 (Mon, 13 Oct 2025) EllapsedTime: 8.2 seconds RetCode: 0 Status: OK