Package: PAIRADISE Version: 1.25.0 Command: rm -rf PAIRADISE.buildbin-libdir && mkdir PAIRADISE.buildbin-libdir && /Users/biocbuild/BBS/utils/build-universal.sh PAIRADISE_1.25.0.tar.gz /Library/Frameworks/R.framework/Resources/bin/R PAIRADISE.buildbin-libdir StartedAt: 2025-10-13 22:52:44 -0400 (Mon, 13 Oct 2025) EndedAt: 2025-10-13 22:52:54 -0400 (Mon, 13 Oct 2025) EllapsedTime: 9.2 seconds RetCode: 0 Status: OK PackageFile: PAIRADISE_1.25.0.tgz PackageFileSize: 382.9 KiB