Package: PADOG Version: 1.51.0 Command: /home/biocbuild/bbs-3.22-bioc/R/bin/R CMD check --install=check:PADOG.install-out.txt --library=/home/biocbuild/bbs-3.22-bioc/R/site-library --timings PADOG_1.51.0.tar.gz StartedAt: 2025-10-18 02:56:30 -0400 (Sat, 18 Oct 2025) EndedAt: 2025-10-18 03:03:42 -0400 (Sat, 18 Oct 2025) EllapsedTime: 431.6 seconds RetCode: 0 Status: OK CheckDir: PADOG.Rcheck Warnings: 0