Package: PAA Version: 1.43.0 Command: /Library/Frameworks/R.framework/Resources/bin/R CMD INSTALL PAA StartedAt: 2025-10-23 15:33:58 -0400 (Thu, 23 Oct 2025) EndedAt: 2025-10-23 15:34:46 -0400 (Thu, 23 Oct 2025) EllapsedTime: 48.1 seconds RetCode: 0 Status: OK