Package: PAA Version: 1.43.0 Command: /Library/Frameworks/R.framework/Resources/bin/R CMD build --keep-empty-dirs --no-resave-data PAA StartedAt: 2025-10-23 18:03:12 -0400 (Thu, 23 Oct 2025) EndedAt: 2025-10-23 18:06:45 -0400 (Thu, 23 Oct 2025) EllapsedTime: 213.2 seconds RetCode: 0 Status: OK PackageFile: PAA_1.43.0.tar.gz PackageFileSize: 3.741 MiB