Package: PAA Version: 1.43.0 Command: rm -rf PAA.buildbin-libdir && mkdir PAA.buildbin-libdir && /Users/biocbuild/BBS/utils/build-universal.sh PAA_1.43.0.tar.gz /Library/Frameworks/R.framework/Resources/bin/R PAA.buildbin-libdir StartedAt: 2025-10-24 01:48:41 -0400 (Fri, 24 Oct 2025) EndedAt: 2025-10-24 01:49:33 -0400 (Fri, 24 Oct 2025) EllapsedTime: 51.8 seconds RetCode: 0 Status: OK PackageFile: PAA_1.43.0.tgz PackageFileSize: 3.986 MiB