Package: PAA Version: 1.43.0 Command: /Library/Frameworks/R.framework/Resources/bin/R CMD INSTALL PAA StartedAt: 2025-10-03 15:19:59 -0400 (Fri, 03 Oct 2025) EndedAt: 2025-10-03 15:20:13 -0400 (Fri, 03 Oct 2025) EllapsedTime: 13.5 seconds RetCode: 0 Status: OK