Package: PAA Version: 1.43.0 Command: /Library/Frameworks/R.framework/Resources/bin/R CMD build --keep-empty-dirs --no-resave-data PAA StartedAt: 2025-10-03 17:16:10 -0400 (Fri, 03 Oct 2025) EndedAt: 2025-10-03 17:16:54 -0400 (Fri, 03 Oct 2025) EllapsedTime: 43.5 seconds RetCode: 0 Status: OK PackageFile: PAA_1.43.0.tar.gz PackageFileSize: 3.743 MiB