Package: OutSplice Version: 1.9.0 Command: /home/biocbuild/R/R/bin/R CMD INSTALL OutSplice StartedAt: 2025-10-13 21:48:25 -0000 (Mon, 13 Oct 2025) EndedAt: 2025-10-13 21:49:10 -0000 (Mon, 13 Oct 2025) EllapsedTime: 44.4 seconds RetCode: 0 Status: OK