Package: OutSplice Version: 1.9.0 Command: /home/biocbuild/R/R/bin/R CMD build --keep-empty-dirs --no-resave-data OutSplice StartedAt: 2025-10-14 02:23:41 -0000 (Tue, 14 Oct 2025) EndedAt: 2025-10-14 02:26:29 -0000 (Tue, 14 Oct 2025) EllapsedTime: 168.3 seconds RetCode: 0 Status: OK PackageFile: OutSplice_1.9.0.tar.gz PackageFileSize: 3.887 MiB