Package: OutSplice Version: 1.9.0 Command: rm -rf OutSplice.buildbin-libdir && mkdir OutSplice.buildbin-libdir && F:\biocbuild\bbs-3.22-bioc\R\bin\R.exe CMD INSTALL --build --library=OutSplice.buildbin-libdir OutSplice_1.9.0.tar.gz StartedAt: 2025-08-15 10:54:32 -0400 (Fri, 15 Aug 2025) EndedAt: 2025-08-15 10:55:19 -0400 (Fri, 15 Aug 2025) EllapsedTime: 47.4 seconds RetCode: 0 Status: OK PackageFile: OutSplice_1.9.0.zip PackageFileSize: 3.907 MiB