Package: OutSplice Version: 1.11.0 Command: /home/biocbuild/bbs-3.23-bioc/R/bin/R CMD INSTALL OutSplice StartedAt: 2025-11-05 16:05:29 -0500 (Wed, 05 Nov 2025) EndedAt: 2025-11-05 16:06:03 -0500 (Wed, 05 Nov 2025) EllapsedTime: 34.3 seconds RetCode: 0 Status: OK