Package: Oscope Version: 1.41.0 Command: /home/biocbuild/bbs-3.23-bioc/R/bin/R CMD build --keep-empty-dirs --no-resave-data Oscope StartedAt: 2025-11-07 19:03:41 -0500 (Fri, 07 Nov 2025) EndedAt: 2025-11-07 19:06:09 -0500 (Fri, 07 Nov 2025) EllapsedTime: 148.2 seconds RetCode: 0 Status: OK PackageFile: Oscope_1.41.0.tar.gz PackageFileSize: 1.16 MiB