Package: OrganismDbi Version: 1.53.2 Command: /Library/Frameworks/R.framework/Resources/bin/R CMD INSTALL OrganismDbi StartedAt: 2025-11-14 15:21:07 -0500 (Fri, 14 Nov 2025) EndedAt: 2025-11-14 15:21:23 -0500 (Fri, 14 Nov 2025) EllapsedTime: 15.9 seconds RetCode: 0 Status: OK