Package: OrganismDbi Version: 1.53.2 Command: /Library/Frameworks/R.framework/Resources/bin/R CMD build --keep-empty-dirs --no-resave-data OrganismDbi StartedAt: 2025-11-14 17:12:23 -0500 (Fri, 14 Nov 2025) EndedAt: 2025-11-14 17:13:06 -0500 (Fri, 14 Nov 2025) EllapsedTime: 43.4 seconds RetCode: 0 Status: OK PackageFile: OrganismDbi_1.53.2.tar.gz PackageFileSize: 387.8 KiB