Package: Organism.dplyr Version: 1.37.1 Command: /Library/Frameworks/R.framework/Resources/bin/R CMD INSTALL Organism.dplyr StartedAt: 2025-10-08 15:38:36 -0400 (Wed, 08 Oct 2025) EndedAt: 2025-10-08 15:39:28 -0400 (Wed, 08 Oct 2025) EllapsedTime: 52.7 seconds RetCode: 0 Status: OK