Package: Organism.dplyr Version: 1.37.1 Command: /Library/Frameworks/R.framework/Resources/bin/R CMD build --keep-empty-dirs --no-resave-data Organism.dplyr StartedAt: 2025-10-08 18:28:13 -0400 (Wed, 08 Oct 2025) EndedAt: 2025-10-08 18:30:46 -0400 (Wed, 08 Oct 2025) EllapsedTime: 152.5 seconds RetCode: 0 Status: OK PackageFile: Organism.dplyr_1.37.1.tar.gz PackageFileSize: 527.6 KiB