Package: Organism.dplyr Version: 1.37.1 Command: rm -rf Organism.dplyr.buildbin-libdir && mkdir Organism.dplyr.buildbin-libdir && /Users/biocbuild/BBS/utils/build-universal.sh Organism.dplyr_1.37.1.tar.gz /Library/Frameworks/R.framework/Resources/bin/R Organism.dplyr.buildbin-libdir StartedAt: 2025-10-09 02:46:11 -0400 (Thu, 09 Oct 2025) EndedAt: 2025-10-09 02:47:06 -0400 (Thu, 09 Oct 2025) EllapsedTime: 54.5 seconds RetCode: 0 Status: OK PackageFile: Organism.dplyr_1.37.1.tgz PackageFileSize: 892.9 KiB