Package: Organism.dplyr Version: 1.37.1 Command: /Library/Frameworks/R.framework/Resources/bin/R CMD INSTALL Organism.dplyr StartedAt: 2025-09-29 15:20:26 -0400 (Mon, 29 Sep 2025) EndedAt: 2025-09-29 15:20:42 -0400 (Mon, 29 Sep 2025) EllapsedTime: 15.8 seconds RetCode: 0 Status: OK