Package: Organism.dplyr Version: 1.37.1 Command: /Library/Frameworks/R.framework/Resources/bin/R CMD build --keep-empty-dirs --no-resave-data Organism.dplyr StartedAt: 2025-09-30 17:18:56 -0400 (Tue, 30 Sep 2025) EndedAt: 2025-09-30 17:19:25 -0400 (Tue, 30 Sep 2025) EllapsedTime: 28.3 seconds RetCode: 0 Status: OK PackageFile: Organism.dplyr_1.37.1.tar.gz PackageFileSize: 527.7 KiB