Package: Organism.dplyr Version: 1.37.1 Command: rm -rf Organism.dplyr.buildbin-libdir && mkdir Organism.dplyr.buildbin-libdir && /Users/biocbuild/BBS/utils/build-universal.sh Organism.dplyr_1.37.1.tar.gz /Library/Frameworks/R.framework/Resources/bin/R Organism.dplyr.buildbin-libdir StartedAt: 2025-09-30 22:49:53 -0400 (Tue, 30 Sep 2025) EndedAt: 2025-09-30 22:50:10 -0400 (Tue, 30 Sep 2025) EllapsedTime: 16.3 seconds RetCode: 0 Status: OK PackageFile: Organism.dplyr_1.37.1.tgz PackageFileSize: 893.2 KiB