Package: OrderedList Version: 1.83.0 Command: /home/biocbuild/bbs-3.23-bioc/R/bin/R CMD INSTALL OrderedList StartedAt: 2025-11-20 15:12:13 -0500 (Thu, 20 Nov 2025) EndedAt: 2025-11-20 15:12:18 -0500 (Thu, 20 Nov 2025) EllapsedTime: 4.6 seconds RetCode: 0 Status: OK