Package: OrderedList Version: 1.83.0 Command: /home/biocbuild/bbs-3.23-bioc/R/bin/R CMD build --keep-empty-dirs --no-resave-data OrderedList StartedAt: 2025-11-20 19:06:36 -0500 (Thu, 20 Nov 2025) EndedAt: 2025-11-20 19:08:15 -0500 (Thu, 20 Nov 2025) EllapsedTime: 98.1 seconds RetCode: 0 Status: OK PackageFile: OrderedList_1.83.0.tar.gz PackageFileSize: 1.053 MiB