Package: OrderedList Version: 1.81.0 Command: /Library/Frameworks/R.framework/Resources/bin/R CMD INSTALL OrderedList StartedAt: 2025-10-12 15:15:31 -0400 (Sun, 12 Oct 2025) EndedAt: 2025-10-12 15:15:38 -0400 (Sun, 12 Oct 2025) EllapsedTime: 7.4 seconds RetCode: 0 Status: OK