Package: OrderedList Version: 1.81.0 Command: /Library/Frameworks/R.framework/Resources/bin/R CMD build --keep-empty-dirs --no-resave-data OrderedList StartedAt: 2025-10-12 18:25:29 -0400 (Sun, 12 Oct 2025) EndedAt: 2025-10-12 18:27:54 -0400 (Sun, 12 Oct 2025) EllapsedTime: 145.0 seconds RetCode: 0 Status: OK PackageFile: OrderedList_1.81.0.tar.gz PackageFileSize: 1.055 MiB