Package: OrderedList Version: 1.81.0 Command: rm -rf OrderedList.buildbin-libdir && mkdir OrderedList.buildbin-libdir && /Users/biocbuild/BBS/utils/build-universal.sh OrderedList_1.81.0.tar.gz /Library/Frameworks/R.framework/Resources/bin/R OrderedList.buildbin-libdir StartedAt: 2025-10-13 02:47:18 -0400 (Mon, 13 Oct 2025) EndedAt: 2025-10-13 02:47:26 -0400 (Mon, 13 Oct 2025) EllapsedTime: 8.1 seconds RetCode: 0 Status: OK PackageFile: OrderedList_1.81.0.tgz PackageFileSize: 1.111 MiB