Package: OrderedList Version: 1.83.0 Maintainer: Claudio Lottaz MaintainerEmail: Claudio.Lottaz at klinik.uni-regensburg.de git_url: https://git.bioconductor.org/packages/OrderedList git_branch: devel git_last_commit: 9b40a29 git_last_commit_date: 2025-10-29 09:58:01 -0400 (Wed, 29 Oct 2025)