Package: OpenStats Version: 1.21.0 Command: /home/biocbuild/R/R/bin/R CMD INSTALL OpenStats StartedAt: 2025-10-06 20:19:40 -0000 (Mon, 06 Oct 2025) EndedAt: 2025-10-06 20:20:06 -0000 (Mon, 06 Oct 2025) EllapsedTime: 26.6 seconds RetCode: 0 Status: OK