Package: OpenStats Version: 1.21.0 Command: rm -rf OpenStats.buildbin-libdir && mkdir OpenStats.buildbin-libdir && F:\biocbuild\bbs-3.22-bioc\R\bin\R.exe CMD INSTALL --build --library=OpenStats.buildbin-libdir OpenStats_1.21.0.tar.gz StartedAt: 2025-08-15 10:53:18 -0400 (Fri, 15 Aug 2025) EndedAt: 2025-08-15 10:54:34 -0400 (Fri, 15 Aug 2025) EllapsedTime: 75.0 seconds RetCode: 0 Status: OK PackageFile: OpenStats_1.21.0.zip PackageFileSize: 683.7 KiB