Package: OpenStats Version: 1.23.0 Command: /home/biocbuild/bbs-3.23-bioc/R/bin/R CMD check --install=check:OpenStats.install-out.txt --library=/home/biocbuild/bbs-3.23-bioc/R/site-library --timings OpenStats_1.23.0.tar.gz StartedAt: 2025-11-21 02:15:59 -0500 (Fri, 21 Nov 2025) EndedAt: 2025-11-21 02:17:51 -0500 (Fri, 21 Nov 2025) EllapsedTime: 112.1 seconds RetCode: 0 Status: OK CheckDir: OpenStats.Rcheck Warnings: 0