Package: OncoSimulR Version: 4.11.1 Command: /home/biocbuild/R/R/bin/R CMD INSTALL OncoSimulR StartedAt: 2025-10-02 20:34:59 -0000 (Thu, 02 Oct 2025) EndedAt: 2025-10-02 20:38:59 -0000 (Thu, 02 Oct 2025) EllapsedTime: 240.4 seconds RetCode: 0 Status: OK